BEGIN:VCALENDAR
VERSION:2.0
PRODID:-//L&#039;improbable Café culturel et l&#039;association L&#039;écho du Colombier - ECPv6.15.20//NONSGML v1.0//EN
CALSCALE:GREGORIAN
METHOD:PUBLISH
X-WR-CALNAME:L&#039;improbable Café culturel et l&#039;association L&#039;écho du Colombier
X-ORIGINAL-URL:https://limprobable.fr
X-WR-CALDESC:Évènements pour L&#039;improbable Café culturel et l&#039;association L&#039;écho du Colombier
REFRESH-INTERVAL;VALUE=DURATION:PT1H
X-Robots-Tag:noindex
X-PUBLISHED-TTL:PT1H
BEGIN:VTIMEZONE
TZID:UTC
BEGIN:STANDARD
TZOFFSETFROM:+0000
TZOFFSETTO:+0000
TZNAME:UTC
DTSTART:20250101T000000
END:STANDARD
END:VTIMEZONE
BEGIN:VEVENT
DTSTART;TZID=UTC:20260425T100000
DTEND;TZID=UTC:20260425T120000
DTSTAMP:20260425T103350
CREATED:20260403T081703Z
LAST-MODIFIED:20260403T081705Z
UID:4760-1777111200-1777118400@limprobable.fr
SUMMARY:Marché de producteurs
DESCRIPTION:Nouveau marché de producteurs locaux\, tous les samedis (sauf 28 décembre et le mois de janvier).
URL:https://limprobable.fr/agenda/marche-de-producteurs-16/
ATTACH;FMTTYPE=image/png:https://limprobable.fr/wp-content/uploads/2025/11/Capture-decran-2025-11-16-a-09.58.55-e1763283703422.png
END:VEVENT
BEGIN:VEVENT
DTSTART;TZID=UTC:20260425T190000
DTEND;TZID=UTC:20260425T203000
DTSTAMP:20260425T103350
CREATED:20260402T202211Z
LAST-MODIFIED:20260403T075209Z
UID:4743-1777143600-1777149000@limprobable.fr
SUMMARY:Barbara\, je serai femme
DESCRIPTION:Charlotte Stanquic chante Barbara\n\n\n\nCharlotte Stanquic\, la nouvelle dame brune\, chante Barbara. La plus grande interprétation des chansons de Barbara depuis fort longtemps. Un moment de grâce suspendu. Une ode à la féminité. Profondeur\, beauté & émotions. \n\n\n\nCharlotte Stanquic au chant\, Léo Lampion au piano. \n\n\n\n\n\n\n\n\n\n \n\n\n\nPour plus d’informations :  \n\n\n\nBarbara\, je serai Femme. | Cie Alma \n\n\n\nEntrée 12/10 (adhérents à l’Echo du Colombier) | Réservation 06 13 01 72 79
URL:https://limprobable.fr/agenda/charlotte-stanquic-chante-barbara/
ATTACH;FMTTYPE=image/jpeg:https://limprobable.fr/wp-content/uploads/2026/04/Charlotte-Stanquic-2.jpg
END:VEVENT
END:VCALENDAR