BEGIN:VCALENDAR
VERSION:2.0
PRODID:-//L&#039;improbable Café culturel et l&#039;association L&#039;écho du Colombier - ECPv6.15.20//NONSGML v1.0//EN
CALSCALE:GREGORIAN
METHOD:PUBLISH
X-ORIGINAL-URL:https://limprobable.fr
X-WR-CALDESC:Évènements pour L&#039;improbable Café culturel et l&#039;association L&#039;écho du Colombier
REFRESH-INTERVAL;VALUE=DURATION:PT1H
X-Robots-Tag:noindex
X-PUBLISHED-TTL:PT1H
BEGIN:VTIMEZONE
TZID:UTC
BEGIN:STANDARD
TZOFFSETFROM:+0000
TZOFFSETTO:+0000
TZNAME:UTC
DTSTART:20220101T000000
END:STANDARD
END:VTIMEZONE
BEGIN:VEVENT
DTSTART;TZID=UTC:20231112T180000
DTEND;TZID=UTC:20231112T190000
DTSTAMP:20260423T122721
CREATED:20231013T154530Z
LAST-MODIFIED:20231021T124756Z
UID:2350-1699812000-1699815600@limprobable.fr
SUMMARY:Nuit d'été trio
DESCRIPTION:concert\n\n\nNuit d’été trio\n\n\n\nBach\, Fauré\, tango\n\n\n\nTrois musiciennes se retrouvent autour du son envoutant du bandonéon pour tisser un fil inattendu entre des répertoires éloignés de plusieurs siècles\, et qui semblent\, pourtant\, se correspondre et s’observer avec des regards familiers. Ainsi\, la Nuit d’été s’ouvre avec les variations Goldberg de Bach\, emprunte une mélodie enivrante à Berlioz\, un poème de printemps à Fauré\, avant de poser les pieds en Argentine.  \n\n\n\nLe bandonéon se transforme à l’envie en clavecin\, piano ou orchestre symphonique pour camper tout à tour l’ambiance du salon des Bach\, du Paris romantique ou des cafés de Buenos Aires. \n\n\n\nCamille Aubret violon et alto | Emmanuelle Huteau chant et clarinette basseKristina Kuusisto bandonéon \n\n\n\n\n\n\n\n\n\n \n\n\n\nLibre participation à partir de 8 eurosRéservation pour le concert et/ou dîner  06 13 01 72 79 \n\n\n\n\n\nFacebook\n\nWordPress
URL:https://limprobable.fr/agenda/nuit-dete-trio/
CATEGORIES:Concert
ATTACH;FMTTYPE=image/jpeg:https://limprobable.fr/wp-content/uploads/2023/10/Wambrechies-6.jpg
END:VEVENT
END:VCALENDAR