BEGIN:VCALENDAR
VERSION:2.0
PRODID:-//L&#039;improbable Café culturel et l&#039;association L&#039;écho du Colombier - ECPv6.15.20//NONSGML v1.0//EN
CALSCALE:GREGORIAN
METHOD:PUBLISH
X-ORIGINAL-URL:https://limprobable.fr
X-WR-CALDESC:Évènements pour L&#039;improbable Café culturel et l&#039;association L&#039;écho du Colombier
REFRESH-INTERVAL;VALUE=DURATION:PT1H
X-Robots-Tag:noindex
X-PUBLISHED-TTL:PT1H
BEGIN:VTIMEZONE
TZID:UTC
BEGIN:STANDARD
TZOFFSETFROM:+0000
TZOFFSETTO:+0000
TZNAME:UTC
DTSTART:20230101T000000
END:STANDARD
END:VTIMEZONE
BEGIN:VEVENT
DTSTART;TZID=UTC:20240302T200000
DTEND;TZID=UTC:20240302T210000
DTSTAMP:20260421T094346
CREATED:20231013T145140Z
LAST-MODIFIED:20240212T104710Z
UID:2325-1709409600-1709413200@limprobable.fr
SUMMARY:Isabelle Qamar
DESCRIPTION:concert\n\n\nIsabelle Qamar\n\n\n\nTales of the broken ones / Contes des têtes cabossées\n\n\n\n« Si tu te perds dans nos pluvieuses contrées\, fais une halte au refuge. Nous saurons t’accueillir. » \n\n\n\nLes chansons d’Isabelle Qamar\, ce sont des lieux de rencontre. Un logis au bout d’un chemin\, une chambre d’amoureux\, le seuil d’une maison vide ; dans chacun de ces espaces\,  »the broken ones »\, les cabossés\, les agités du bocal\, les remuants du branchage\, les familiers des sentiers de traverse se croisent\, se cherchent\, se trouvent\, s’étreignent\, se brisent parfois.  \n\n\n\nAu cours de cette balade intimiste et folk\, elle cherche le lien entre elle et l’autre ; passant du français à l’anglais\, de la joie au manque\, de l’union à la distance\, entre la Bretagne et l’Irlande\, dans un inlassable va-et-vient entre l’ici et l’ailleurs.  \n\n\n\n\n\n\n\nLibre participation à partir de 8 eurosRéservation pour le concert et/ou dîner  06 13 01 72 79
URL:https://limprobable.fr/agenda/isabelle-qamar/
CATEGORIES:Concert
ATTACH;FMTTYPE=image/jpeg:https://limprobable.fr/wp-content/uploads/2023/10/Isabelle-Quamar.jpg
END:VEVENT
BEGIN:VEVENT
DTSTART;TZID=UTC:20240309T180000
DTEND;TZID=UTC:20240309T193000
DTSTAMP:20260421T094346
CREATED:20231115T070207Z
LAST-MODIFIED:20240305T090939Z
UID:2462-1710007200-1710012600@limprobable.fr
SUMMARY:Un voyage en hiver
DESCRIPTION:concert\n\n\nUn voyage en hiver\n\n\n\nManuelle Campos & Emmanuelle Huteau\n\n\n\nDeux livres\, Un voyage en hiver et L’ombre bleuie.  Il y est question de reflets\, de neige\, de traces laissées dans la buée d’une vitre\, de chien de ferme\, de comptoir en aluminium\, de passages\, d’oubli\, de présence.Manuelle Campos mets en musique un poème\, puis tous les poèmes. Elle prend sa guitare\, son accordéon\, son ukulélé et va frapper à la porte d’Emmanuelle Huteau. Elle prend sa clarinette basse\, joue un thème\, puis chante La nuit vient\, son pas doux croise…Le voyage commence. \n\n\n\nLe concert…Compositions\, guitare\, accordéon\, ukulélé\, chant (un tout petit peu) : Manuelle CamposClarinette et clarinette basse\, chant : Emmanuelle Huteau \n\n\n\nLes livres…Poèmes de Dominique Barberet Grandière sur des photos de Claude BaudinÉditions La Baraque de chantier \n\n\n\n\n\n\n\nDurée 45mn \n\n\n\nLibre participation à partir de 8 eurosRéservation pour le concert et/ou dîner 06 13 01 72 79
URL:https://limprobable.fr/agenda/un-voyage-en-hiver/
CATEGORIES:Concert,Littérature
ATTACH;FMTTYPE=image/jpeg:https://limprobable.fr/wp-content/uploads/2023/11/Campos-Huteau.jpg
END:VEVENT
BEGIN:VEVENT
DTSTART;TZID=UTC:20240324T180000
DTEND;TZID=UTC:20240324T190000
DTSTAMP:20260421T094346
CREATED:20240218T184517Z
LAST-MODIFIED:20240218T185148Z
UID:2605-1711303200-1711306800@limprobable.fr
SUMMARY:La vie rêvée de Josiane
DESCRIPTION:concert\n\n\nBastoon et Babouschka\n\n\n\nLa vie rêvée de Josiane\n\n\n\n« Ce soir\, c’est le grand soir. Josiane se prépare pour se rendre à l’anniversaire de Monique. Mais il y aura Mike\, Eric et peut-être même Pablo. Le temps d’enfiler ses bas résilles\, Josiane se raconte : ses amoures inachevées\, ses envies de se battre contre un monde trop inique\, ses désirs de grandeur\, ses deuils. Et tandis qu’elle se dévoile entière\, imparfaite\, terriblement humaine\, se libère la Josiane qui sommeille en chacun de nous. » chanson survoltée \n\n\n\nPour nous conter ses pérégrinations\, Bastoon et Babouschka naviguent entre acoustique et électrique\, dans une instrumentation et un style musical qui varient sans cesse au gré des histoires. Du blues au punk\, du disco au tango\, c’est avec une énergie débordante qu’ils nous emmènent dans cet univers théâtral qui les caractérise. \n\n\n\n\n\n\n\n\n\nLibre participation à partir de 8 euros \n\n\n\nRéservation pour le concert et/ou dîner 06 13 01 72 79
URL:https://limprobable.fr/agenda/la-vie-revee-de-josiane/
CATEGORIES:Concert
ATTACH;FMTTYPE=image/jpeg:https://limprobable.fr/wp-content/uploads/2024/02/JFCBastoonBabooshKcrs-scaled.jpg
END:VEVENT
BEGIN:VEVENT
DTSTART;TZID=UTC:20240330T180000
DTEND;TZID=UTC:20240330T193000
DTSTAMP:20260421T094346
CREATED:20240304T155038Z
LAST-MODIFIED:20240304T155249Z
UID:2647-1711821600-1711827000@limprobable.fr
SUMMARY:Bleu de travail
DESCRIPTION:concert\n\n\nBleu de travail\n\n\n\nUn concert poétique à partir de textes de Thomas Vinau\, avec Jeff Alluin et Claire Laurent .  \n\n\n\n« Chroniques des manches retroussées\, du ciel\, et des matins qui passent. Textes de rien\, de faim et de soif. Il y a chaque jour des gris à habiter et des couleurs à faire pousser. Il faut chaque jour mettre ses mains dans le cambouis\, se coltiner au peu\, aux riens\, aux petites beautés ratées. Ce sont des choses insignifiantes qui nous sauvent ou qui nous achèvent. Qui nous écrasent ou nous tiennent debout. » \n\n\n\n\n\n\n\n\n\nJeff Alluin\, piano et Claire Laurent\, voix\n\n\n\nLibre participation à partir de 8 eurosRéservation pour le concert et/ou dîner 06 13 01 72 79
URL:https://limprobable.fr/agenda/bleu-de-travail/
CATEGORIES:Concert,concert-lecture
ATTACH;FMTTYPE=image/png:https://limprobable.fr/wp-content/uploads/2024/03/e729d1dd-e665-4531-844f-867391f08504.png
END:VEVENT
END:VCALENDAR