BEGIN:VCALENDAR
VERSION:2.0
PRODID:-//L&#039;improbable Café culturel et l&#039;association L&#039;écho du Colombier - ECPv6.15.20//NONSGML v1.0//EN
CALSCALE:GREGORIAN
METHOD:PUBLISH
X-WR-CALNAME:L&#039;improbable Café culturel et l&#039;association L&#039;écho du Colombier
X-ORIGINAL-URL:https://limprobable.fr
X-WR-CALDESC:Évènements pour L&#039;improbable Café culturel et l&#039;association L&#039;écho du Colombier
REFRESH-INTERVAL;VALUE=DURATION:PT1H
X-Robots-Tag:noindex
X-PUBLISHED-TTL:PT1H
BEGIN:VTIMEZONE
TZID:UTC
BEGIN:STANDARD
TZOFFSETFROM:+0000
TZOFFSETTO:+0000
TZNAME:UTC
DTSTART:20220101T000000
END:STANDARD
END:VTIMEZONE
BEGIN:VEVENT
DTSTART;TZID=UTC:20230712T190000
DTEND;TZID=UTC:20230712T203000
DTSTAMP:20260425T103830
CREATED:20230705T140340Z
LAST-MODIFIED:20230708T094723Z
UID:1779-1689188400-1689193800@limprobable.fr
SUMMARY:Limite lyrique
DESCRIPTION:Concert \n\n\n\n\n\nLimite lyrique\n\n\n\nLe duo a vu le jour dans le Tarn en 2019\, avec l’idée de jouer de la musique classique dans la rue\, pour la faire connaître au plus grand nombre\, de façon impromptue.De fil en aiguille\, en même temps que leur amitié\, s’est construit un répertoire très varié allant de la renaissance jusqu’au XX°siècle\, avec quelques airs de musique populaire. Les morceaux sont réarrangés pour correspondre à l’accordéon\, la guitare ou le oud et sont brièvement présentés de façon parfois fantasque pour se détendre et pourquoi pas rire un peu ! \n\n\n\n\n\n\n\nKarine Louis\, chant (soprano) | Fraise Lucas\, accordéon\, guitare et oud\n\n\n\n\n\nRéserver pour le concert et/ou pour manger 06 13 01 72 79
URL:https://limprobable.fr/agenda/limite-lyrique/
CATEGORIES:Concert
END:VEVENT
END:VCALENDAR