BEGIN:VCALENDAR
VERSION:2.0
PRODID:-//L&#039;improbable Café culturel et l&#039;association L&#039;écho du Colombier - ECPv6.15.20//NONSGML v1.0//EN
CALSCALE:GREGORIAN
METHOD:PUBLISH
X-ORIGINAL-URL:https://limprobable.fr
X-WR-CALDESC:Évènements pour L&#039;improbable Café culturel et l&#039;association L&#039;écho du Colombier
REFRESH-INTERVAL;VALUE=DURATION:PT1H
X-Robots-Tag:noindex
X-PUBLISHED-TTL:PT1H
BEGIN:VTIMEZONE
TZID:UTC
BEGIN:STANDARD
TZOFFSETFROM:+0000
TZOFFSETTO:+0000
TZNAME:UTC
DTSTART:20220101T000000
END:STANDARD
END:VTIMEZONE
BEGIN:VEVENT
DTSTART;TZID=UTC:20231228T180000
DTEND;TZID=UTC:20231228T193000
DTSTAMP:20260421T201250
CREATED:20231013T152730Z
LAST-MODIFIED:20231115T065723Z
UID:2342-1703786400-1703791800@limprobable.fr
SUMMARY:Kor'âme
DESCRIPTION:concert\n\n\nKor’âme\n\n\n\nMusique d’Afrique de l’Ouest\n\n\n\nKevin joue depuis près de deux ans de la kora et souhaite partager ses douces sonorités avec le public. Il joue des répertoires traditionnels d’Afrique de l’Ouest (Mali\, Burkina Faso\, Guinée\, Sénégal\, Gambie). \n\n\n\n\n\n\n\nLibre participation à partir de 8 eurosRéservation pour le concert et/ou dîner  06 13 01 72 79
URL:https://limprobable.fr/agenda/korame/
CATEGORIES:Concert
ATTACH;FMTTYPE=image/jpeg:https://limprobable.fr/wp-content/uploads/2023/10/Kevinrenevot_paysage.jpg
END:VEVENT
END:VCALENDAR