BEGIN:VCALENDAR
VERSION:2.0
PRODID:-//L&#039;improbable Café culturel et l&#039;association L&#039;écho du Colombier - ECPv6.15.20//NONSGML v1.0//EN
CALSCALE:GREGORIAN
METHOD:PUBLISH
X-WR-CALNAME:L&#039;improbable Café culturel et l&#039;association L&#039;écho du Colombier
X-ORIGINAL-URL:https://limprobable.fr
X-WR-CALDESC:Évènements pour L&#039;improbable Café culturel et l&#039;association L&#039;écho du Colombier
REFRESH-INTERVAL;VALUE=DURATION:PT1H
X-Robots-Tag:noindex
X-PUBLISHED-TTL:PT1H
BEGIN:VTIMEZONE
TZID:UTC
BEGIN:STANDARD
TZOFFSETFROM:+0000
TZOFFSETTO:+0000
TZNAME:UTC
DTSTART:20230101T000000
END:STANDARD
END:VTIMEZONE
BEGIN:VEVENT
DTSTART;TZID=UTC:20240302T200000
DTEND;TZID=UTC:20240302T210000
DTSTAMP:20260421T124138
CREATED:20231013T145140Z
LAST-MODIFIED:20240212T104710Z
UID:2325-1709409600-1709413200@limprobable.fr
SUMMARY:Isabelle Qamar
DESCRIPTION:concert\n\n\nIsabelle Qamar\n\n\n\nTales of the broken ones / Contes des têtes cabossées\n\n\n\n« Si tu te perds dans nos pluvieuses contrées\, fais une halte au refuge. Nous saurons t’accueillir. » \n\n\n\nLes chansons d’Isabelle Qamar\, ce sont des lieux de rencontre. Un logis au bout d’un chemin\, une chambre d’amoureux\, le seuil d’une maison vide ; dans chacun de ces espaces\,  »the broken ones »\, les cabossés\, les agités du bocal\, les remuants du branchage\, les familiers des sentiers de traverse se croisent\, se cherchent\, se trouvent\, s’étreignent\, se brisent parfois.  \n\n\n\nAu cours de cette balade intimiste et folk\, elle cherche le lien entre elle et l’autre ; passant du français à l’anglais\, de la joie au manque\, de l’union à la distance\, entre la Bretagne et l’Irlande\, dans un inlassable va-et-vient entre l’ici et l’ailleurs.  \n\n\n\n\n\n\n\nLibre participation à partir de 8 eurosRéservation pour le concert et/ou dîner  06 13 01 72 79
URL:https://limprobable.fr/agenda/isabelle-qamar/
CATEGORIES:Concert
ATTACH;FMTTYPE=image/jpeg:https://limprobable.fr/wp-content/uploads/2023/10/Isabelle-Quamar.jpg
END:VEVENT
END:VCALENDAR