BEGIN:VCALENDAR
VERSION:2.0
PRODID:-//L&#039;improbable Café culturel et l&#039;association L&#039;écho du Colombier - ECPv6.15.20//NONSGML v1.0//EN
CALSCALE:GREGORIAN
METHOD:PUBLISH
X-WR-CALNAME:L&#039;improbable Café culturel et l&#039;association L&#039;écho du Colombier
X-ORIGINAL-URL:https://limprobable.fr
X-WR-CALDESC:Évènements pour L&#039;improbable Café culturel et l&#039;association L&#039;écho du Colombier
REFRESH-INTERVAL;VALUE=DURATION:PT1H
X-Robots-Tag:noindex
X-PUBLISHED-TTL:PT1H
BEGIN:VTIMEZONE
TZID:UTC
BEGIN:STANDARD
TZOFFSETFROM:+0000
TZOFFSETTO:+0000
TZNAME:UTC
DTSTART:20230101T000000
END:STANDARD
END:VTIMEZONE
BEGIN:VEVENT
DTSTART;TZID=UTC:20240727T193000
DTEND;TZID=UTC:20240727T203000
DTSTAMP:20260421T081520
CREATED:20240715T053844Z
LAST-MODIFIED:20240715T060323Z
UID:3093-1722108600-1722112200@limprobable.fr
SUMMARY:Ensemble Diogo
DESCRIPTION:concert\n\n\nIbérie\, 2023\n\n\n\nEnsemble Diogo\n\n\n\nIbérie\, c’est le nom antique de cette péninsule qui ferme la mer Méditerranée à son extrémité occidentale.Et c’est bien cette musique née sur le pourtour de cette mer que nous mettons à l’honneur dans ce concert : le rêve d’une méditerranée qui soit autre qu’une barrière entre deux mondes ou un cimetière géant dans lequel tous les ans sont engloutis des milliers d’êtres humains dans une indifférence assez générale\, qu’elle soit au contraire un grand champ des possibles\, une étendue d’espoir\, un dialogue des cultures comme cela a été le cas jusqu’au XVᵉ siècle.Dans les musiques choisies\, on retrouve des consonances mélodiques en provenance du Moyen-Orient\, du Magreb\, des Balkans\, d’Europe Occidentale\, un florilège des cultures musulmanes\, séfarades et chrétiennes de l’Espagne du Moyen Âge. Car au fond c’est bien de ces temps et de ces lieux que provient l’origine de ces mélodies\, expression d’un métissage entre musiques de différentes cultures et ont fini par se fondre les unes aux autres.Mariées à ces thèmes musicaux\, des textes poétiques empreints d’un lyrisme singulier\, nostalgique et passionnel\, relatant des miracles\, chantant les souffrances de la vie\, l’amour\, la tristesse\, l’éloignement…Nous sommes ainsi à notre manière un maillon dans la transmission de ces musiques anciennes et populaires vers les générations futures. Chacun avec notre histoire personnelle\, nos origines musicales\, et c’est avec humanité que nous construisons cette rencontre Orient/Occident. \n\n\n\n\n\n\n\nIngrid Blasco vielle à roue | Mathias Mantello percussions | Martine Meunier chant | Gwen Tual guitare\, bouzouki\, babil\n\n\n\n8/10 euros — (réduit pour les adhérents à l’Echo du Colombier)Réservation pour le concert et/ou dîner 06 13 01 72 79
URL:https://limprobable.fr/agenda/ensemble-diogo/
CATEGORIES:Concert
ATTACH;FMTTYPE=image/jpeg:https://limprobable.fr/wp-content/uploads/2024/07/Diogo-scaled.jpg
END:VEVENT
BEGIN:VEVENT
DTSTART;TZID=UTC:20240727T193000
DTEND;TZID=UTC:20240728T230000
DTSTAMP:20260421T081521
CREATED:20240719T092604Z
LAST-MODIFIED:20240719T092606Z
UID:3201-1722108600-1722207600@limprobable.fr
SUMMARY:Festival médiéval
DESCRIPTION:Festival médiéval \n\n\n\nUn week-end pour découvrir des musiques et danses du Moyen âge dans un manoir du 13e siècle. \n\n\n\nVous trouverez également des plats et boissons qui résonnent avec la musique. \n\n\n\n\n\n\n\nSamedi 27\, 19h30Ibérie\, Ensemble DiogoMusiques des rives de la Méditerranée au 15e sièclelire la suite \n\n\n\nDimanche 28\, 19h30Ay\, amours !Chansons d’amour au 14e sièclelire la suite \n\n\n\nDimanche 28\, 21h-23hBal médiéval et Renaissanceavec Véronique Daniels\, maitresse à danser\, et ses ménétriers
URL:https://limprobable.fr/agenda/festival-medieval/
CATEGORIES:Concert
ATTACH;FMTTYPE=image/jpeg:https://limprobable.fr/wp-content/uploads/2024/07/bassedanse-e1721381156661.jpg
END:VEVENT
END:VCALENDAR